BEGIN:VCALENDAR
VERSION:2.0
PRODID:-//First Presbyterian Church Monte Vista - ECPv6.15.20//NONSGML v1.0//EN
CALSCALE:GREGORIAN
METHOD:PUBLISH
X-ORIGINAL-URL:https://eco-presmv.org
X-WR-CALDESC:Events for First Presbyterian Church Monte Vista
REFRESH-INTERVAL;VALUE=DURATION:PT1H
X-Robots-Tag:noindex
X-PUBLISHED-TTL:PT1H
BEGIN:VTIMEZONE
TZID:America/Denver
BEGIN:DAYLIGHT
TZOFFSETFROM:-0700
TZOFFSETTO:-0600
TZNAME:MDT
DTSTART:20220313T090000
END:DAYLIGHT
BEGIN:STANDARD
TZOFFSETFROM:-0600
TZOFFSETTO:-0700
TZNAME:MST
DTSTART:20221106T080000
END:STANDARD
BEGIN:DAYLIGHT
TZOFFSETFROM:-0700
TZOFFSETTO:-0600
TZNAME:MDT
DTSTART:20230312T090000
END:DAYLIGHT
BEGIN:STANDARD
TZOFFSETFROM:-0600
TZOFFSETTO:-0700
TZNAME:MST
DTSTART:20231105T080000
END:STANDARD
BEGIN:DAYLIGHT
TZOFFSETFROM:-0700
TZOFFSETTO:-0600
TZNAME:MDT
DTSTART:20240310T090000
END:DAYLIGHT
BEGIN:STANDARD
TZOFFSETFROM:-0600
TZOFFSETTO:-0700
TZNAME:MST
DTSTART:20241103T080000
END:STANDARD
END:VTIMEZONE
BEGIN:VEVENT
DTSTART;TZID=America/Denver:20230402T110000
DTEND;TZID=America/Denver:20230402T120000
DTSTAMP:20260423T040849
CREATED:20240217T205127Z
LAST-MODIFIED:20240217T205127Z
UID:10000775-1680433200-1680436800@eco-presmv.org
SUMMARY:Sunday Service with Fellowship to Follow
DESCRIPTION:Join us at 11:00 a.m. for our Sunday Worship service! All are invited to join for our traditional service. \nDress: Come as you are!
URL:https://eco-presmv.org/event/sunday-service-with-fellowship-to-follow-25/2023-04-02/
LOCATION:First Presbyterian Church of Monte Vista\, 705 2nd Avenue\, Monte Vista\, CO\, 81144\, United States
CATEGORIES:Sunday Services
ATTACH;FMTTYPE=image/png:https://eco-presmv.org/wp-content/uploads/2023/07/Event-Featured-Images-website-4.png
END:VEVENT
BEGIN:VEVENT
DTSTART;TZID=America/Denver:20230409T110000
DTEND;TZID=America/Denver:20230409T120000
DTSTAMP:20260423T040849
CREATED:20240217T205127Z
LAST-MODIFIED:20240217T205127Z
UID:10000776-1681038000-1681041600@eco-presmv.org
SUMMARY:Sunday Service with Fellowship to Follow
DESCRIPTION:Join us at 11:00 a.m. for our Sunday Worship service! All are invited to join for our traditional service. \nDress: Come as you are!
URL:https://eco-presmv.org/event/sunday-service-with-fellowship-to-follow-25/2023-04-09/
LOCATION:First Presbyterian Church of Monte Vista\, 705 2nd Avenue\, Monte Vista\, CO\, 81144\, United States
CATEGORIES:Sunday Services
ATTACH;FMTTYPE=image/png:https://eco-presmv.org/wp-content/uploads/2023/07/Event-Featured-Images-website-4.png
END:VEVENT
BEGIN:VEVENT
DTSTART;TZID=America/Denver:20230416T110000
DTEND;TZID=America/Denver:20230416T120000
DTSTAMP:20260423T040849
CREATED:20240217T205127Z
LAST-MODIFIED:20240217T205127Z
UID:10000777-1681642800-1681646400@eco-presmv.org
SUMMARY:Sunday Service with Fellowship to Follow
DESCRIPTION:Join us at 11:00 a.m. for our Sunday Worship service! All are invited to join for our traditional service. \nDress: Come as you are!
URL:https://eco-presmv.org/event/sunday-service-with-fellowship-to-follow-25/2023-04-16/
LOCATION:First Presbyterian Church of Monte Vista\, 705 2nd Avenue\, Monte Vista\, CO\, 81144\, United States
CATEGORIES:Sunday Services
ATTACH;FMTTYPE=image/png:https://eco-presmv.org/wp-content/uploads/2023/07/Event-Featured-Images-website-4.png
END:VEVENT
BEGIN:VEVENT
DTSTART;TZID=America/Denver:20230423T110000
DTEND;TZID=America/Denver:20230423T120000
DTSTAMP:20260423T040849
CREATED:20240217T205127Z
LAST-MODIFIED:20240217T205127Z
UID:10000778-1682247600-1682251200@eco-presmv.org
SUMMARY:Sunday Service with Fellowship to Follow
DESCRIPTION:Join us at 11:00 a.m. for our Sunday Worship service! All are invited to join for our traditional service. \nDress: Come as you are!
URL:https://eco-presmv.org/event/sunday-service-with-fellowship-to-follow-25/2023-04-23/
LOCATION:First Presbyterian Church of Monte Vista\, 705 2nd Avenue\, Monte Vista\, CO\, 81144\, United States
CATEGORIES:Sunday Services
ATTACH;FMTTYPE=image/png:https://eco-presmv.org/wp-content/uploads/2023/07/Event-Featured-Images-website-4.png
END:VEVENT
BEGIN:VEVENT
DTSTART;TZID=America/Denver:20230430T110000
DTEND;TZID=America/Denver:20230430T120000
DTSTAMP:20260423T040849
CREATED:20240217T205127Z
LAST-MODIFIED:20240217T205127Z
UID:10000779-1682852400-1682856000@eco-presmv.org
SUMMARY:Sunday Service with Fellowship to Follow
DESCRIPTION:Join us at 11:00 a.m. for our Sunday Worship service! All are invited to join for our traditional service. \nDress: Come as you are!
URL:https://eco-presmv.org/event/sunday-service-with-fellowship-to-follow-25/2023-04-30/
LOCATION:First Presbyterian Church of Monte Vista\, 705 2nd Avenue\, Monte Vista\, CO\, 81144\, United States
CATEGORIES:Sunday Services
ATTACH;FMTTYPE=image/png:https://eco-presmv.org/wp-content/uploads/2023/07/Event-Featured-Images-website-4.png
END:VEVENT
END:VCALENDAR