BEGIN:VCALENDAR
VERSION:2.0
PRODID:-//First Presbyterian Church Monte Vista - ECPv6.15.17.1//NONSGML v1.0//EN
CALSCALE:GREGORIAN
METHOD:PUBLISH
X-ORIGINAL-URL:https://eco-presmv.org
X-WR-CALDESC:Events for First Presbyterian Church Monte Vista
REFRESH-INTERVAL;VALUE=DURATION:PT1H
X-Robots-Tag:noindex
X-PUBLISHED-TTL:PT1H
BEGIN:VTIMEZONE
TZID:America/Denver
BEGIN:DAYLIGHT
TZOFFSETFROM:-0700
TZOFFSETTO:-0600
TZNAME:MDT
DTSTART:20230312T090000
END:DAYLIGHT
BEGIN:STANDARD
TZOFFSETFROM:-0600
TZOFFSETTO:-0700
TZNAME:MST
DTSTART:20231105T080000
END:STANDARD
BEGIN:DAYLIGHT
TZOFFSETFROM:-0700
TZOFFSETTO:-0600
TZNAME:MDT
DTSTART:20240310T090000
END:DAYLIGHT
BEGIN:STANDARD
TZOFFSETFROM:-0600
TZOFFSETTO:-0700
TZNAME:MST
DTSTART:20241103T080000
END:STANDARD
BEGIN:DAYLIGHT
TZOFFSETFROM:-0700
TZOFFSETTO:-0600
TZNAME:MDT
DTSTART:20250309T090000
END:DAYLIGHT
BEGIN:STANDARD
TZOFFSETFROM:-0600
TZOFFSETTO:-0700
TZNAME:MST
DTSTART:20251102T080000
END:STANDARD
END:VTIMEZONE
BEGIN:VEVENT
DTSTART;TZID=America/Denver:20240204T093000
DTEND;TZID=America/Denver:20240204T100000
DTSTAMP:20260420T164937
CREATED:20230707T161207Z
LAST-MODIFIED:20240217T160616Z
UID:10000440-1707039000-1707040800@eco-presmv.org
SUMMARY:Sunday School for All Ages
DESCRIPTION:Join us for Sunday School every week at 9:30 a.m.! \n\nPre-K to 1st grade\n2nd grade to 4th grade\n5th grade to 7th grade\n8th grade to 12th grade OR\nAdult Study\n\n 
URL:https://eco-presmv.org/event/sunday-school-for-all-ages-20-2/2024-02-04/
LOCATION:First Presbyterian Church of Monte Vista\, 705 2nd Avenue\, Monte Vista\, CO\, 81144\, United States
CATEGORIES:Bible Studies,Sunday School for all ages
ATTACH;FMTTYPE=image/png:https://eco-presmv.org/wp-content/uploads/2023/07/Event-Featured-Images-website-3.png
END:VEVENT
BEGIN:VEVENT
DTSTART;TZID=America/Denver:20240204T110000
DTEND;TZID=America/Denver:20240204T120000
DTSTAMP:20260420T164937
CREATED:20230707T161621Z
LAST-MODIFIED:20240217T211102Z
UID:10000749-1707044400-1707048000@eco-presmv.org
SUMMARY:Sunday Service with Fellowship to Follow
DESCRIPTION:
URL:https://eco-presmv.org/event/sunday-service-with-fellowship-to-follow-24/2024-02-04/
LOCATION:First Presbyterian Church of Monte Vista\, 705 2nd Avenue\, Monte Vista\, CO\, 81144\, United States
CATEGORIES:Sunday Services
ATTACH;FMTTYPE=image/png:https://eco-presmv.org/wp-content/uploads/2023/07/Event-Featured-Images-website-4.png
END:VEVENT
BEGIN:VEVENT
DTSTART;TZID=America/Denver:20240211T093000
DTEND;TZID=America/Denver:20240211T100000
DTSTAMP:20260420T164937
CREATED:20230707T161207Z
LAST-MODIFIED:20240217T160616Z
UID:10000441-1707643800-1707645600@eco-presmv.org
SUMMARY:Sunday School for All Ages
DESCRIPTION:Join us for Sunday School every week at 9:30 a.m.! \n\nPre-K to 1st grade\n2nd grade to 4th grade\n5th grade to 7th grade\n8th grade to 12th grade OR\nAdult Study\n\n 
URL:https://eco-presmv.org/event/sunday-school-for-all-ages-20-2/2024-02-11/
LOCATION:First Presbyterian Church of Monte Vista\, 705 2nd Avenue\, Monte Vista\, CO\, 81144\, United States
CATEGORIES:Bible Studies,Sunday School for all ages
ATTACH;FMTTYPE=image/png:https://eco-presmv.org/wp-content/uploads/2023/07/Event-Featured-Images-website-3.png
END:VEVENT
BEGIN:VEVENT
DTSTART;TZID=America/Denver:20240211T110000
DTEND;TZID=America/Denver:20240211T120000
DTSTAMP:20260420T164937
CREATED:20230707T161621Z
LAST-MODIFIED:20240217T211102Z
UID:10000750-1707649200-1707652800@eco-presmv.org
SUMMARY:Sunday Service with Fellowship to Follow
DESCRIPTION:
URL:https://eco-presmv.org/event/sunday-service-with-fellowship-to-follow-24/2024-02-11/
LOCATION:First Presbyterian Church of Monte Vista\, 705 2nd Avenue\, Monte Vista\, CO\, 81144\, United States
CATEGORIES:Sunday Services
ATTACH;FMTTYPE=image/png:https://eco-presmv.org/wp-content/uploads/2023/07/Event-Featured-Images-website-4.png
END:VEVENT
BEGIN:VEVENT
DTSTART;TZID=America/Denver:20240218T093000
DTEND;TZID=America/Denver:20240218T100000
DTSTAMP:20260420T164937
CREATED:20230707T161207Z
LAST-MODIFIED:20240217T160616Z
UID:10000442-1708248600-1708250400@eco-presmv.org
SUMMARY:Sunday School for All Ages
DESCRIPTION:Join us for Sunday School every week at 9:30 a.m.! \n\nPre-K to 1st grade\n2nd grade to 4th grade\n5th grade to 7th grade\n8th grade to 12th grade OR\nAdult Study\n\n 
URL:https://eco-presmv.org/event/sunday-school-for-all-ages-20-2/2024-02-18/
LOCATION:First Presbyterian Church of Monte Vista\, 705 2nd Avenue\, Monte Vista\, CO\, 81144\, United States
CATEGORIES:Bible Studies,Sunday School for all ages
ATTACH;FMTTYPE=image/png:https://eco-presmv.org/wp-content/uploads/2023/07/Event-Featured-Images-website-3.png
END:VEVENT
BEGIN:VEVENT
DTSTART;TZID=America/Denver:20240218T110000
DTEND;TZID=America/Denver:20240218T120000
DTSTAMP:20260420T164937
CREATED:20230707T161621Z
LAST-MODIFIED:20240217T211102Z
UID:10000751-1708254000-1708257600@eco-presmv.org
SUMMARY:Sunday Service with Fellowship to Follow
DESCRIPTION:
URL:https://eco-presmv.org/event/sunday-service-with-fellowship-to-follow-24/2024-02-18/
LOCATION:First Presbyterian Church of Monte Vista\, 705 2nd Avenue\, Monte Vista\, CO\, 81144\, United States
CATEGORIES:Sunday Services
ATTACH;FMTTYPE=image/png:https://eco-presmv.org/wp-content/uploads/2023/07/Event-Featured-Images-website-4.png
END:VEVENT
BEGIN:VEVENT
DTSTART;TZID=America/Denver:20240218T140000
DTEND;TZID=America/Denver:20240218T170000
DTSTAMP:20260420T164937
CREATED:20240218T171212Z
LAST-MODIFIED:20240220T155736Z
UID:10002103-1708264800-1708275600@eco-presmv.org
SUMMARY:Space Reserved
DESCRIPTION:Space has been reserved during this time at the church.
URL:https://eco-presmv.org/event/space-reserved/2024-02-18/
LOCATION:CO
END:VEVENT
BEGIN:VEVENT
DTSTART;TZID=America/Denver:20240220T200000
DTEND;TZID=America/Denver:20240220T210000
DTSTAMP:20260420T164937
CREATED:20240218T171518Z
LAST-MODIFIED:20240218T171518Z
UID:10001581-1708459200-1708462800@eco-presmv.org
SUMMARY:AA - Basement Reserved
DESCRIPTION:Alcoholics Anonymous is a global peer-led mutual aid fellowship begun in the United States dedicated to abstinence-based recovery from alcoholism through its spiritually inclined twelve-step program. They reserve our space during this time.
URL:https://eco-presmv.org/event/aa-basement-reserved/2024-02-20/
LOCATION:CO
END:VEVENT
BEGIN:VEVENT
DTSTART;TZID=America/Denver:20240221T190000
DTEND;TZID=America/Denver:20240221T210000
DTSTAMP:20260420T164937
CREATED:20240216T222305Z
LAST-MODIFIED:20240216T222305Z
UID:10000794-1708542000-1708549200@eco-presmv.org
SUMMARY:Choir Rehearsal
DESCRIPTION:Rehearsal – Wednesday 7pm
URL:https://eco-presmv.org/event/choir-rehearsal/2024-02-21/
LOCATION:CO
CATEGORIES:Choir Rehearsal
END:VEVENT
BEGIN:VEVENT
DTSTART;TZID=America/Denver:20240223T120000
DTEND;TZID=America/Denver:20240223T130000
DTSTAMP:20260420T164937
CREATED:20240218T163550Z
LAST-MODIFIED:20240218T163550Z
UID:10001530-1708689600-1708693200@eco-presmv.org
SUMMARY:Lenten Luncheon
DESCRIPTION:Join us for Community Lenten Luncheons! \nFebruary 23 – Saint Joseph Catholic Church \nMarch 1 – St. Stephen Episcopal Church \nMarch 8 – Grace & Mercy Christian Church \nMarch 15 – First Presbyterian Church \nMarch 22 – Assembly of God Church \n  \nContact us for more information.
URL:https://eco-presmv.org/event/lenten-luncheon/2024-02-23/
LOCATION:CO
CATEGORIES:Community Involvement,Dinners or Breakfast
END:VEVENT
BEGIN:VEVENT
DTSTART;TZID=America/Denver:20240224T200000
DTEND;TZID=America/Denver:20240224T210000
DTSTAMP:20260420T164937
CREATED:20240218T171518Z
LAST-MODIFIED:20240218T171518Z
UID:10001582-1708804800-1708808400@eco-presmv.org
SUMMARY:AA - Basement Reserved
DESCRIPTION:Alcoholics Anonymous is a global peer-led mutual aid fellowship begun in the United States dedicated to abstinence-based recovery from alcoholism through its spiritually inclined twelve-step program. They reserve our space during this time.
URL:https://eco-presmv.org/event/aa-basement-reserved/2024-02-24/
LOCATION:CO
END:VEVENT
BEGIN:VEVENT
DTSTART;TZID=America/Denver:20240225T093000
DTEND;TZID=America/Denver:20240225T100000
DTSTAMP:20260420T164937
CREATED:20230707T161207Z
LAST-MODIFIED:20240217T160616Z
UID:10000443-1708853400-1708855200@eco-presmv.org
SUMMARY:Sunday School for All Ages
DESCRIPTION:Join us for Sunday School every week at 9:30 a.m.! \n\nPre-K to 1st grade\n2nd grade to 4th grade\n5th grade to 7th grade\n8th grade to 12th grade OR\nAdult Study\n\n 
URL:https://eco-presmv.org/event/sunday-school-for-all-ages-20-2/2024-02-25/
LOCATION:First Presbyterian Church of Monte Vista\, 705 2nd Avenue\, Monte Vista\, CO\, 81144\, United States
CATEGORIES:Bible Studies,Sunday School for all ages
ATTACH;FMTTYPE=image/png:https://eco-presmv.org/wp-content/uploads/2023/07/Event-Featured-Images-website-3.png
END:VEVENT
BEGIN:VEVENT
DTSTART;TZID=America/Denver:20240225T110000
DTEND;TZID=America/Denver:20240225T120000
DTSTAMP:20260420T164937
CREATED:20230707T161621Z
LAST-MODIFIED:20240217T211102Z
UID:10000752-1708858800-1708862400@eco-presmv.org
SUMMARY:Sunday Service with Fellowship to Follow
DESCRIPTION:
URL:https://eco-presmv.org/event/sunday-service-with-fellowship-to-follow-24/2024-02-25/
LOCATION:First Presbyterian Church of Monte Vista\, 705 2nd Avenue\, Monte Vista\, CO\, 81144\, United States
CATEGORIES:Sunday Services
ATTACH;FMTTYPE=image/png:https://eco-presmv.org/wp-content/uploads/2023/07/Event-Featured-Images-website-4.png
END:VEVENT
BEGIN:VEVENT
DTSTART;TZID=America/Denver:20240225T140000
DTEND;TZID=America/Denver:20240225T170000
DTSTAMP:20260420T164937
CREATED:20240218T171212Z
LAST-MODIFIED:20240220T155736Z
UID:10002104-1708869600-1708880400@eco-presmv.org
SUMMARY:Space Reserved
DESCRIPTION:Space has been reserved during this time at the church.
URL:https://eco-presmv.org/event/space-reserved/2024-02-25/
LOCATION:CO
END:VEVENT
BEGIN:VEVENT
DTSTART;TZID=America/Denver:20240227T200000
DTEND;TZID=America/Denver:20240227T210000
DTSTAMP:20260420T164937
CREATED:20240218T171518Z
LAST-MODIFIED:20240218T171518Z
UID:10001583-1709064000-1709067600@eco-presmv.org
SUMMARY:AA - Basement Reserved
DESCRIPTION:Alcoholics Anonymous is a global peer-led mutual aid fellowship begun in the United States dedicated to abstinence-based recovery from alcoholism through its spiritually inclined twelve-step program. They reserve our space during this time.
URL:https://eco-presmv.org/event/aa-basement-reserved/2024-02-27/
LOCATION:CO
END:VEVENT
BEGIN:VEVENT
DTSTART;TZID=America/Denver:20240228T190000
DTEND;TZID=America/Denver:20240228T210000
DTSTAMP:20260420T164937
CREATED:20240216T222305Z
LAST-MODIFIED:20240216T222305Z
UID:10000795-1709146800-1709154000@eco-presmv.org
SUMMARY:Choir Rehearsal
DESCRIPTION:Rehearsal – Wednesday 7pm
URL:https://eco-presmv.org/event/choir-rehearsal/2024-02-28/
LOCATION:CO
CATEGORIES:Choir Rehearsal
END:VEVENT
END:VCALENDAR