BEGIN:VCALENDAR
VERSION:2.0
PRODID:-//First Presbyterian Church Monte Vista - ECPv6.15.17.1//NONSGML v1.0//EN
CALSCALE:GREGORIAN
METHOD:PUBLISH
X-WR-CALNAME:First Presbyterian Church Monte Vista
X-ORIGINAL-URL:https://eco-presmv.org
X-WR-CALDESC:Events for First Presbyterian Church Monte Vista
REFRESH-INTERVAL;VALUE=DURATION:PT1H
X-Robots-Tag:noindex
X-PUBLISHED-TTL:PT1H
BEGIN:VTIMEZONE
TZID:America/Denver
BEGIN:DAYLIGHT
TZOFFSETFROM:-0700
TZOFFSETTO:-0600
TZNAME:MDT
DTSTART:20220313T090000
END:DAYLIGHT
BEGIN:STANDARD
TZOFFSETFROM:-0600
TZOFFSETTO:-0700
TZNAME:MST
DTSTART:20221106T080000
END:STANDARD
BEGIN:DAYLIGHT
TZOFFSETFROM:-0700
TZOFFSETTO:-0600
TZNAME:MDT
DTSTART:20230312T090000
END:DAYLIGHT
BEGIN:STANDARD
TZOFFSETFROM:-0600
TZOFFSETTO:-0700
TZNAME:MST
DTSTART:20231105T080000
END:STANDARD
BEGIN:DAYLIGHT
TZOFFSETFROM:-0700
TZOFFSETTO:-0600
TZNAME:MDT
DTSTART:20240310T090000
END:DAYLIGHT
BEGIN:STANDARD
TZOFFSETFROM:-0600
TZOFFSETTO:-0700
TZNAME:MST
DTSTART:20241103T080000
END:STANDARD
END:VTIMEZONE
BEGIN:VEVENT
DTSTART;TZID=America/Denver:20230205T093000
DTEND;TZID=America/Denver:20230205T110000
DTSTAMP:20260421T103405
CREATED:20221226T140909Z
LAST-MODIFIED:20230227T190713Z
UID:10000368-1675589400-1675594800@eco-presmv.org
SUMMARY:Sunday School for All Ages
DESCRIPTION:
URL:https://eco-presmv.org/event/sunday-school-for-all-ages-20/2023-02-05/
LOCATION:First Presbyterian Church of Monte Vista\, 705 2nd Avenue\, Monte Vista\, CO\, 81144\, United States
CATEGORIES:Sunday School for all ages
END:VEVENT
BEGIN:VEVENT
DTSTART;TZID=America/Denver:20230205T110000
DTEND;TZID=America/Denver:20230205T120000
DTSTAMP:20260421T103405
CREATED:20221226T140457Z
LAST-MODIFIED:20230227T190537Z
UID:10000103-1675594800-1675598400@eco-presmv.org
SUMMARY:Sunday Service with Fellowship to Follow
DESCRIPTION:
URL:https://eco-presmv.org/event/sunday-service-with-fellowship-to-follow-23/2023-02-05/
LOCATION:First Presbyterian Church of Monte Vista\, 705 2nd Avenue\, Monte Vista\, CO\, 81144\, United States
CATEGORIES:Sunday Services
END:VEVENT
BEGIN:VEVENT
DTSTART;TZID=America/Denver:20230205T110000
DTEND;TZID=America/Denver:20230205T120000
DTSTAMP:20260421T103405
CREATED:20240217T205127Z
LAST-MODIFIED:20240217T205127Z
UID:10000767-1675594800-1675598400@eco-presmv.org
SUMMARY:Sunday Service with Fellowship to Follow
DESCRIPTION:Join us at 11:00 a.m. for our Sunday Worship service! All are invited to join for our traditional service. \nDress: Come as you are!
URL:https://eco-presmv.org/event/sunday-service-with-fellowship-to-follow-25/2023-02-05/
LOCATION:First Presbyterian Church of Monte Vista\, 705 2nd Avenue\, Monte Vista\, CO\, 81144\, United States
CATEGORIES:Sunday Services
ATTACH;FMTTYPE=image/png:https://eco-presmv.org/wp-content/uploads/2023/07/Event-Featured-Images-website-4.png
END:VEVENT
BEGIN:VEVENT
DTSTART;TZID=America/Denver:20230212T093000
DTEND;TZID=America/Denver:20230212T110000
DTSTAMP:20260421T103405
CREATED:20221226T140909Z
LAST-MODIFIED:20230227T190713Z
UID:10000369-1676194200-1676199600@eco-presmv.org
SUMMARY:Sunday School for All Ages
DESCRIPTION:
URL:https://eco-presmv.org/event/sunday-school-for-all-ages-20/2023-02-12/
LOCATION:First Presbyterian Church of Monte Vista\, 705 2nd Avenue\, Monte Vista\, CO\, 81144\, United States
CATEGORIES:Sunday School for all ages
END:VEVENT
BEGIN:VEVENT
DTSTART;TZID=America/Denver:20230212T110000
DTEND;TZID=America/Denver:20230212T120000
DTSTAMP:20260421T103405
CREATED:20221226T140457Z
LAST-MODIFIED:20230227T190537Z
UID:10000104-1676199600-1676203200@eco-presmv.org
SUMMARY:Sunday Service with Fellowship to Follow
DESCRIPTION:
URL:https://eco-presmv.org/event/sunday-service-with-fellowship-to-follow-23/2023-02-12/
LOCATION:First Presbyterian Church of Monte Vista\, 705 2nd Avenue\, Monte Vista\, CO\, 81144\, United States
CATEGORIES:Sunday Services
END:VEVENT
BEGIN:VEVENT
DTSTART;TZID=America/Denver:20230212T110000
DTEND;TZID=America/Denver:20230212T120000
DTSTAMP:20260421T103405
CREATED:20240217T205127Z
LAST-MODIFIED:20240217T205127Z
UID:10000768-1676199600-1676203200@eco-presmv.org
SUMMARY:Sunday Service with Fellowship to Follow
DESCRIPTION:Join us at 11:00 a.m. for our Sunday Worship service! All are invited to join for our traditional service. \nDress: Come as you are!
URL:https://eco-presmv.org/event/sunday-service-with-fellowship-to-follow-25/2023-02-12/
LOCATION:First Presbyterian Church of Monte Vista\, 705 2nd Avenue\, Monte Vista\, CO\, 81144\, United States
CATEGORIES:Sunday Services
ATTACH;FMTTYPE=image/png:https://eco-presmv.org/wp-content/uploads/2023/07/Event-Featured-Images-website-4.png
END:VEVENT
BEGIN:VEVENT
DTSTART;TZID=America/Denver:20230219T093000
DTEND;TZID=America/Denver:20230219T110000
DTSTAMP:20260421T103405
CREATED:20221226T140909Z
LAST-MODIFIED:20230227T190713Z
UID:10000370-1676799000-1676804400@eco-presmv.org
SUMMARY:Sunday School for All Ages
DESCRIPTION:
URL:https://eco-presmv.org/event/sunday-school-for-all-ages-20/2023-02-19/
LOCATION:First Presbyterian Church of Monte Vista\, 705 2nd Avenue\, Monte Vista\, CO\, 81144\, United States
CATEGORIES:Sunday School for all ages
END:VEVENT
BEGIN:VEVENT
DTSTART;TZID=America/Denver:20230219T110000
DTEND;TZID=America/Denver:20230219T120000
DTSTAMP:20260421T103405
CREATED:20221226T140457Z
LAST-MODIFIED:20230227T190537Z
UID:10000105-1676804400-1676808000@eco-presmv.org
SUMMARY:Sunday Service with Fellowship to Follow
DESCRIPTION:
URL:https://eco-presmv.org/event/sunday-service-with-fellowship-to-follow-23/2023-02-19/
LOCATION:First Presbyterian Church of Monte Vista\, 705 2nd Avenue\, Monte Vista\, CO\, 81144\, United States
CATEGORIES:Sunday Services
END:VEVENT
BEGIN:VEVENT
DTSTART;TZID=America/Denver:20230219T110000
DTEND;TZID=America/Denver:20230219T120000
DTSTAMP:20260421T103405
CREATED:20240217T205127Z
LAST-MODIFIED:20240217T205127Z
UID:10000769-1676804400-1676808000@eco-presmv.org
SUMMARY:Sunday Service with Fellowship to Follow
DESCRIPTION:Join us at 11:00 a.m. for our Sunday Worship service! All are invited to join for our traditional service. \nDress: Come as you are!
URL:https://eco-presmv.org/event/sunday-service-with-fellowship-to-follow-25/2023-02-19/
LOCATION:First Presbyterian Church of Monte Vista\, 705 2nd Avenue\, Monte Vista\, CO\, 81144\, United States
CATEGORIES:Sunday Services
ATTACH;FMTTYPE=image/png:https://eco-presmv.org/wp-content/uploads/2023/07/Event-Featured-Images-website-4.png
END:VEVENT
BEGIN:VEVENT
DTSTART;TZID=America/Denver:20230226T093000
DTEND;TZID=America/Denver:20230226T110000
DTSTAMP:20260421T103405
CREATED:20221226T140909Z
LAST-MODIFIED:20230227T190713Z
UID:10000371-1677403800-1677409200@eco-presmv.org
SUMMARY:Sunday School for All Ages
DESCRIPTION:
URL:https://eco-presmv.org/event/sunday-school-for-all-ages-20/2023-02-26/
LOCATION:First Presbyterian Church of Monte Vista\, 705 2nd Avenue\, Monte Vista\, CO\, 81144\, United States
CATEGORIES:Sunday School for all ages
END:VEVENT
BEGIN:VEVENT
DTSTART;TZID=America/Denver:20230226T110000
DTEND;TZID=America/Denver:20230226T120000
DTSTAMP:20260421T103405
CREATED:20221226T140457Z
LAST-MODIFIED:20230227T190537Z
UID:10000106-1677409200-1677412800@eco-presmv.org
SUMMARY:Sunday Service with Fellowship to Follow
DESCRIPTION:
URL:https://eco-presmv.org/event/sunday-service-with-fellowship-to-follow-23/2023-02-26/
LOCATION:First Presbyterian Church of Monte Vista\, 705 2nd Avenue\, Monte Vista\, CO\, 81144\, United States
CATEGORIES:Sunday Services
END:VEVENT
BEGIN:VEVENT
DTSTART;TZID=America/Denver:20230226T110000
DTEND;TZID=America/Denver:20230226T120000
DTSTAMP:20260421T103405
CREATED:20240217T205127Z
LAST-MODIFIED:20240217T205127Z
UID:10000770-1677409200-1677412800@eco-presmv.org
SUMMARY:Sunday Service with Fellowship to Follow
DESCRIPTION:Join us at 11:00 a.m. for our Sunday Worship service! All are invited to join for our traditional service. \nDress: Come as you are!
URL:https://eco-presmv.org/event/sunday-service-with-fellowship-to-follow-25/2023-02-26/
LOCATION:First Presbyterian Church of Monte Vista\, 705 2nd Avenue\, Monte Vista\, CO\, 81144\, United States
CATEGORIES:Sunday Services
ATTACH;FMTTYPE=image/png:https://eco-presmv.org/wp-content/uploads/2023/07/Event-Featured-Images-website-4.png
END:VEVENT
END:VCALENDAR