BEGIN:VCALENDAR
VERSION:2.0
PRODID:-//First Presbyterian Church Monte Vista - ECPv6.15.20//NONSGML v1.0//EN
CALSCALE:GREGORIAN
METHOD:PUBLISH
X-WR-CALNAME:First Presbyterian Church Monte Vista
X-ORIGINAL-URL:https://eco-presmv.org
X-WR-CALDESC:Events for First Presbyterian Church Monte Vista
REFRESH-INTERVAL;VALUE=DURATION:PT1H
X-Robots-Tag:noindex
X-PUBLISHED-TTL:PT1H
BEGIN:VTIMEZONE
TZID:America/Denver
BEGIN:DAYLIGHT
TZOFFSETFROM:-0700
TZOFFSETTO:-0600
TZNAME:MDT
DTSTART:20210314T090000
END:DAYLIGHT
BEGIN:STANDARD
TZOFFSETFROM:-0600
TZOFFSETTO:-0700
TZNAME:MST
DTSTART:20211107T080000
END:STANDARD
BEGIN:DAYLIGHT
TZOFFSETFROM:-0700
TZOFFSETTO:-0600
TZNAME:MDT
DTSTART:20220313T090000
END:DAYLIGHT
BEGIN:STANDARD
TZOFFSETFROM:-0600
TZOFFSETTO:-0700
TZNAME:MST
DTSTART:20221106T080000
END:STANDARD
BEGIN:DAYLIGHT
TZOFFSETFROM:-0700
TZOFFSETTO:-0600
TZNAME:MDT
DTSTART:20230312T090000
END:DAYLIGHT
BEGIN:STANDARD
TZOFFSETFROM:-0600
TZOFFSETTO:-0700
TZNAME:MST
DTSTART:20231105T080000
END:STANDARD
END:VTIMEZONE
BEGIN:VEVENT
DTSTART;TZID=America/Denver:20221204T093000
DTEND;TZID=America/Denver:20221204T110000
DTSTAMP:20260423T024212
CREATED:20220831T191544Z
LAST-MODIFIED:20220831T191544Z
UID:10000083-1670146200-1670151600@eco-presmv.org
SUMMARY:Sunday School for All Ages
DESCRIPTION:
URL:https://eco-presmv.org/event/sunday-school-for-all-ages-13/
LOCATION:First Presbyterian Church of Monte Vista\, 705 2nd Avenue\, Monte Vista\, CO\, 81144\, United States
CATEGORIES:Sunday School for all ages
END:VEVENT
BEGIN:VEVENT
DTSTART;TZID=America/Denver:20221204T110000
DTEND;TZID=America/Denver:20221204T120000
DTSTAMP:20260423T024212
CREATED:20220830T203116Z
LAST-MODIFIED:20220830T203116Z
UID:10000067-1670151600-1670155200@eco-presmv.org
SUMMARY:Sunday Service with Fellowship to Follow
DESCRIPTION:
URL:https://eco-presmv.org/event/sunday-service-with-fellowship-to-follow-15/
LOCATION:First Presbyterian Church of Monte Vista\, 705 2nd Avenue\, Monte Vista\, CO\, 81144\, United States
CATEGORIES:Sunday Services
END:VEVENT
BEGIN:VEVENT
DTSTART;TZID=America/Denver:20221211T093000
DTEND;TZID=America/Denver:20221211T110000
DTSTAMP:20260423T024212
CREATED:20220831T191614Z
LAST-MODIFIED:20220831T191614Z
UID:10000084-1670751000-1670756400@eco-presmv.org
SUMMARY:Sunday School for All Ages
DESCRIPTION:
URL:https://eco-presmv.org/event/sunday-school-for-all-ages-14/
LOCATION:First Presbyterian Church of Monte Vista\, 705 2nd Avenue\, Monte Vista\, CO\, 81144\, United States
CATEGORIES:Sunday School for all ages
END:VEVENT
BEGIN:VEVENT
DTSTART;TZID=America/Denver:20221211T110000
DTEND;TZID=America/Denver:20221211T120000
DTSTAMP:20260423T024212
CREATED:20220830T203159Z
LAST-MODIFIED:20220830T203159Z
UID:10000068-1670756400-1670760000@eco-presmv.org
SUMMARY:Sunday Service with Fellowship to Follow
DESCRIPTION:
URL:https://eco-presmv.org/event/sunday-service-with-fellowship-to-follow-16/
LOCATION:First Presbyterian Church of Monte Vista\, 705 2nd Avenue\, Monte Vista\, CO\, 81144\, United States
CATEGORIES:Sunday Services
END:VEVENT
BEGIN:VEVENT
DTSTART;TZID=America/Denver:20221218T080000
DTEND;TZID=America/Denver:20221218T170000
DTSTAMP:20260423T024212
CREATED:20220831T191636Z
LAST-MODIFIED:20220831T191636Z
UID:10000085-1671350400-1671382800@eco-presmv.org
SUMMARY:Sunday School for All Ages
DESCRIPTION:
URL:https://eco-presmv.org/event/sunday-school-for-all-ages-15/
LOCATION:First Presbyterian Church of Monte Vista\, 705 2nd Avenue\, Monte Vista\, CO\, 81144\, United States
CATEGORIES:Sunday School for all ages
END:VEVENT
BEGIN:VEVENT
DTSTART;TZID=America/Denver:20221218T110000
DTEND;TZID=America/Denver:20221218T120000
DTSTAMP:20260423T024212
CREATED:20220830T203228Z
LAST-MODIFIED:20220830T203228Z
UID:10000069-1671361200-1671364800@eco-presmv.org
SUMMARY:Sunday Service with Fellowship to Follow
DESCRIPTION:
URL:https://eco-presmv.org/event/sunday-service-with-fellowship-to-follow-17/
LOCATION:First Presbyterian Church of Monte Vista\, 705 2nd Avenue\, Monte Vista\, CO\, 81144\, United States
CATEGORIES:Sunday Services
END:VEVENT
BEGIN:VEVENT
DTSTART;VALUE=DATE:20221224
DTEND;VALUE=DATE:20221225
DTSTAMP:20260423T024212
CREATED:20220831T191819Z
LAST-MODIFIED:20220831T191819Z
UID:10000088-1671840000-1671926399@eco-presmv.org
SUMMARY:Christmas Eve
DESCRIPTION:
URL:https://eco-presmv.org/event/christmas-eve/
LOCATION:CO
END:VEVENT
BEGIN:VEVENT
DTSTART;VALUE=DATE:20221225
DTEND;VALUE=DATE:20221226
DTSTAMP:20260423T024212
CREATED:20220831T191749Z
LAST-MODIFIED:20220831T191749Z
UID:10000087-1671926400-1672012799@eco-presmv.org
SUMMARY:Merry Christmas!
DESCRIPTION:
URL:https://eco-presmv.org/event/merry-christmas/
LOCATION:CO
END:VEVENT
BEGIN:VEVENT
DTSTART;TZID=America/Denver:20221225T093000
DTEND;TZID=America/Denver:20221225T110000
DTSTAMP:20260423T024212
CREATED:20220831T191717Z
LAST-MODIFIED:20220831T191717Z
UID:10000086-1671960600-1671966000@eco-presmv.org
SUMMARY:Sunday School for All Ages
DESCRIPTION:
URL:https://eco-presmv.org/event/sunday-school-for-all-ages-16/
LOCATION:First Presbyterian Church of Monte Vista\, 705 2nd Avenue\, Monte Vista\, CO\, 81144\, United States
CATEGORIES:Sunday School for all ages
END:VEVENT
BEGIN:VEVENT
DTSTART;TZID=America/Denver:20221225T110000
DTEND;TZID=America/Denver:20221225T120000
DTSTAMP:20260423T024212
CREATED:20220830T203308Z
LAST-MODIFIED:20220830T203308Z
UID:10000070-1671966000-1671969600@eco-presmv.org
SUMMARY:Sunday Service with Fellowship to Follow
DESCRIPTION:
URL:https://eco-presmv.org/event/sunday-service-with-fellowship-to-follow-18/
LOCATION:First Presbyterian Church of Monte Vista\, 705 2nd Avenue\, Monte Vista\, CO\, 81144\, United States
CATEGORIES:Sunday Services
END:VEVENT
END:VCALENDAR