BEGIN:VCALENDAR
VERSION:2.0
PRODID:-//First Presbyterian Church Monte Vista - ECPv6.15.17.1//NONSGML v1.0//EN
CALSCALE:GREGORIAN
METHOD:PUBLISH
X-WR-CALNAME:First Presbyterian Church Monte Vista
X-ORIGINAL-URL:https://eco-presmv.org
X-WR-CALDESC:Events for First Presbyterian Church Monte Vista
REFRESH-INTERVAL;VALUE=DURATION:PT1H
X-Robots-Tag:noindex
X-PUBLISHED-TTL:PT1H
BEGIN:VTIMEZONE
TZID:America/Denver
BEGIN:DAYLIGHT
TZOFFSETFROM:-0700
TZOFFSETTO:-0600
TZNAME:MDT
DTSTART:20220313T090000
END:DAYLIGHT
BEGIN:STANDARD
TZOFFSETFROM:-0600
TZOFFSETTO:-0700
TZNAME:MST
DTSTART:20221106T080000
END:STANDARD
BEGIN:DAYLIGHT
TZOFFSETFROM:-0700
TZOFFSETTO:-0600
TZNAME:MDT
DTSTART:20230312T090000
END:DAYLIGHT
BEGIN:STANDARD
TZOFFSETFROM:-0600
TZOFFSETTO:-0700
TZNAME:MST
DTSTART:20231105T080000
END:STANDARD
BEGIN:DAYLIGHT
TZOFFSETFROM:-0700
TZOFFSETTO:-0600
TZNAME:MDT
DTSTART:20240310T090000
END:DAYLIGHT
BEGIN:STANDARD
TZOFFSETFROM:-0600
TZOFFSETTO:-0700
TZNAME:MST
DTSTART:20241103T080000
END:STANDARD
END:VTIMEZONE
BEGIN:VEVENT
DTSTART;TZID=America/Denver:20231022T110000
DTEND;TZID=America/Denver:20231022T120000
DTSTAMP:20260421T025508
CREATED:20230707T161621Z
LAST-MODIFIED:20240217T211102Z
UID:10000734-1697972400-1697976000@eco-presmv.org
SUMMARY:Sunday Service with Fellowship to Follow
DESCRIPTION:
URL:https://eco-presmv.org/event/sunday-service-with-fellowship-to-follow-24/2023-10-22/
LOCATION:First Presbyterian Church of Monte Vista\, 705 2nd Avenue\, Monte Vista\, CO\, 81144\, United States
CATEGORIES:Sunday Services
ATTACH;FMTTYPE=image/png:https://eco-presmv.org/wp-content/uploads/2023/07/Event-Featured-Images-website-4.png
END:VEVENT
BEGIN:VEVENT
DTSTART;TZID=America/Denver:20231022T093000
DTEND;TZID=America/Denver:20231022T100000
DTSTAMP:20260421T025508
CREATED:20230707T161207Z
LAST-MODIFIED:20240217T160616Z
UID:10000425-1697967000-1697968800@eco-presmv.org
SUMMARY:Sunday School for All Ages
DESCRIPTION:Join us for Sunday School every week at 9:30 a.m.! \n\nPre-K to 1st grade\n2nd grade to 4th grade\n5th grade to 7th grade\n8th grade to 12th grade OR\nAdult Study\n\n 
URL:https://eco-presmv.org/event/sunday-school-for-all-ages-20-2/2023-10-22/
LOCATION:First Presbyterian Church of Monte Vista\, 705 2nd Avenue\, Monte Vista\, CO\, 81144\, United States
CATEGORIES:Bible Studies,Sunday School for all ages
ATTACH;FMTTYPE=image/png:https://eco-presmv.org/wp-content/uploads/2023/07/Event-Featured-Images-website-3.png
END:VEVENT
BEGIN:VEVENT
DTSTART;TZID=America/Denver:20231015T110000
DTEND;TZID=America/Denver:20231015T120000
DTSTAMP:20260421T025508
CREATED:20230707T161621Z
LAST-MODIFIED:20240217T211102Z
UID:10000733-1697367600-1697371200@eco-presmv.org
SUMMARY:Sunday Service with Fellowship to Follow
DESCRIPTION:
URL:https://eco-presmv.org/event/sunday-service-with-fellowship-to-follow-24/2023-10-15/
LOCATION:First Presbyterian Church of Monte Vista\, 705 2nd Avenue\, Monte Vista\, CO\, 81144\, United States
CATEGORIES:Sunday Services
ATTACH;FMTTYPE=image/png:https://eco-presmv.org/wp-content/uploads/2023/07/Event-Featured-Images-website-4.png
END:VEVENT
BEGIN:VEVENT
DTSTART;TZID=America/Denver:20231015T093000
DTEND;TZID=America/Denver:20231015T100000
DTSTAMP:20260421T025508
CREATED:20230707T161207Z
LAST-MODIFIED:20240217T160616Z
UID:10000424-1697362200-1697364000@eco-presmv.org
SUMMARY:Sunday School for All Ages
DESCRIPTION:Join us for Sunday School every week at 9:30 a.m.! \n\nPre-K to 1st grade\n2nd grade to 4th grade\n5th grade to 7th grade\n8th grade to 12th grade OR\nAdult Study\n\n 
URL:https://eco-presmv.org/event/sunday-school-for-all-ages-20-2/2023-10-15/
LOCATION:First Presbyterian Church of Monte Vista\, 705 2nd Avenue\, Monte Vista\, CO\, 81144\, United States
CATEGORIES:Bible Studies,Sunday School for all ages
ATTACH;FMTTYPE=image/png:https://eco-presmv.org/wp-content/uploads/2023/07/Event-Featured-Images-website-3.png
END:VEVENT
BEGIN:VEVENT
DTSTART;TZID=America/Denver:20231013T150000
DTEND;TZID=America/Denver:20231013T163000
DTSTAMP:20260421T025508
CREATED:20230624T183115Z
LAST-MODIFIED:20230624T183115Z
UID:10000388-1697209200-1697214600@eco-presmv.org
SUMMARY:Women's Bible Study
DESCRIPTION:
URL:https://eco-presmv.org/event/womens-bible-study/2023-10-13/
LOCATION:Cheryl’s Home (Call for address)
END:VEVENT
BEGIN:VEVENT
DTSTART;TZID=America/Denver:20231008T110000
DTEND;TZID=America/Denver:20231008T120000
DTSTAMP:20260421T025508
CREATED:20230707T161621Z
LAST-MODIFIED:20240217T211102Z
UID:10000732-1696762800-1696766400@eco-presmv.org
SUMMARY:Sunday Service with Fellowship to Follow
DESCRIPTION:
URL:https://eco-presmv.org/event/sunday-service-with-fellowship-to-follow-24/2023-10-08/
LOCATION:First Presbyterian Church of Monte Vista\, 705 2nd Avenue\, Monte Vista\, CO\, 81144\, United States
CATEGORIES:Sunday Services
ATTACH;FMTTYPE=image/png:https://eco-presmv.org/wp-content/uploads/2023/07/Event-Featured-Images-website-4.png
END:VEVENT
BEGIN:VEVENT
DTSTART;TZID=America/Denver:20231008T093000
DTEND;TZID=America/Denver:20231008T100000
DTSTAMP:20260421T025508
CREATED:20230707T161207Z
LAST-MODIFIED:20240217T160616Z
UID:10000423-1696757400-1696759200@eco-presmv.org
SUMMARY:Sunday School for All Ages
DESCRIPTION:Join us for Sunday School every week at 9:30 a.m.! \n\nPre-K to 1st grade\n2nd grade to 4th grade\n5th grade to 7th grade\n8th grade to 12th grade OR\nAdult Study\n\n 
URL:https://eco-presmv.org/event/sunday-school-for-all-ages-20-2/2023-10-08/
LOCATION:First Presbyterian Church of Monte Vista\, 705 2nd Avenue\, Monte Vista\, CO\, 81144\, United States
CATEGORIES:Bible Studies,Sunday School for all ages
ATTACH;FMTTYPE=image/png:https://eco-presmv.org/wp-content/uploads/2023/07/Event-Featured-Images-website-3.png
END:VEVENT
BEGIN:VEVENT
DTSTART;TZID=America/Denver:20231001T110000
DTEND;TZID=America/Denver:20231001T120000
DTSTAMP:20260421T025508
CREATED:20230707T161621Z
LAST-MODIFIED:20240217T211102Z
UID:10000731-1696158000-1696161600@eco-presmv.org
SUMMARY:Sunday Service with Fellowship to Follow
DESCRIPTION:
URL:https://eco-presmv.org/event/sunday-service-with-fellowship-to-follow-24/2023-10-01/
LOCATION:First Presbyterian Church of Monte Vista\, 705 2nd Avenue\, Monte Vista\, CO\, 81144\, United States
CATEGORIES:Sunday Services
ATTACH;FMTTYPE=image/png:https://eco-presmv.org/wp-content/uploads/2023/07/Event-Featured-Images-website-4.png
END:VEVENT
BEGIN:VEVENT
DTSTART;TZID=America/Denver:20231001T093000
DTEND;TZID=America/Denver:20231001T100000
DTSTAMP:20260421T025508
CREATED:20230707T161207Z
LAST-MODIFIED:20240217T160616Z
UID:10000422-1696152600-1696154400@eco-presmv.org
SUMMARY:Sunday School for All Ages
DESCRIPTION:Join us for Sunday School every week at 9:30 a.m.! \n\nPre-K to 1st grade\n2nd grade to 4th grade\n5th grade to 7th grade\n8th grade to 12th grade OR\nAdult Study\n\n 
URL:https://eco-presmv.org/event/sunday-school-for-all-ages-20-2/2023-10-01/
LOCATION:First Presbyterian Church of Monte Vista\, 705 2nd Avenue\, Monte Vista\, CO\, 81144\, United States
CATEGORIES:Bible Studies,Sunday School for all ages
ATTACH;FMTTYPE=image/png:https://eco-presmv.org/wp-content/uploads/2023/07/Event-Featured-Images-website-3.png
END:VEVENT
BEGIN:VEVENT
DTSTART;TZID=America/Denver:20230924T110000
DTEND;TZID=America/Denver:20230924T120000
DTSTAMP:20260421T025508
CREATED:20230707T161621Z
LAST-MODIFIED:20240217T211102Z
UID:10000730-1695553200-1695556800@eco-presmv.org
SUMMARY:Sunday Service with Fellowship to Follow
DESCRIPTION:
URL:https://eco-presmv.org/event/sunday-service-with-fellowship-to-follow-24/2023-09-24/
LOCATION:First Presbyterian Church of Monte Vista\, 705 2nd Avenue\, Monte Vista\, CO\, 81144\, United States
CATEGORIES:Sunday Services
ATTACH;FMTTYPE=image/png:https://eco-presmv.org/wp-content/uploads/2023/07/Event-Featured-Images-website-4.png
END:VEVENT
BEGIN:VEVENT
DTSTART;TZID=America/Denver:20230924T093000
DTEND;TZID=America/Denver:20230924T100000
DTSTAMP:20260421T025508
CREATED:20230707T161207Z
LAST-MODIFIED:20240217T160616Z
UID:10000421-1695547800-1695549600@eco-presmv.org
SUMMARY:Sunday School for All Ages
DESCRIPTION:Join us for Sunday School every week at 9:30 a.m.! \n\nPre-K to 1st grade\n2nd grade to 4th grade\n5th grade to 7th grade\n8th grade to 12th grade OR\nAdult Study\n\n 
URL:https://eco-presmv.org/event/sunday-school-for-all-ages-20-2/2023-09-24/
LOCATION:First Presbyterian Church of Monte Vista\, 705 2nd Avenue\, Monte Vista\, CO\, 81144\, United States
CATEGORIES:Bible Studies,Sunday School for all ages
ATTACH;FMTTYPE=image/png:https://eco-presmv.org/wp-content/uploads/2023/07/Event-Featured-Images-website-3.png
END:VEVENT
BEGIN:VEVENT
DTSTART;TZID=America/Denver:20230922T150000
DTEND;TZID=America/Denver:20230922T163000
DTSTAMP:20260421T025508
CREATED:20230624T183147Z
LAST-MODIFIED:20230624T183147Z
UID:10000395-1695394800-1695400200@eco-presmv.org
SUMMARY:Women's Bible Study
DESCRIPTION:
URL:https://eco-presmv.org/event/womens-bible-study-2/2023-09-22/
LOCATION:Cheryl’s Home (Call for address)
END:VEVENT
BEGIN:VEVENT
DTSTART;TZID=America/Denver:20230917T110000
DTEND;TZID=America/Denver:20230917T120000
DTSTAMP:20260421T025508
CREATED:20230707T161621Z
LAST-MODIFIED:20240217T211102Z
UID:10000729-1694948400-1694952000@eco-presmv.org
SUMMARY:Sunday Service with Fellowship to Follow
DESCRIPTION:
URL:https://eco-presmv.org/event/sunday-service-with-fellowship-to-follow-24/2023-09-17/
LOCATION:First Presbyterian Church of Monte Vista\, 705 2nd Avenue\, Monte Vista\, CO\, 81144\, United States
CATEGORIES:Sunday Services
ATTACH;FMTTYPE=image/png:https://eco-presmv.org/wp-content/uploads/2023/07/Event-Featured-Images-website-4.png
END:VEVENT
BEGIN:VEVENT
DTSTART;TZID=America/Denver:20230917T093000
DTEND;TZID=America/Denver:20230917T100000
DTSTAMP:20260421T025508
CREATED:20230707T161207Z
LAST-MODIFIED:20240217T160616Z
UID:10000420-1694943000-1694944800@eco-presmv.org
SUMMARY:Sunday School for All Ages
DESCRIPTION:Join us for Sunday School every week at 9:30 a.m.! \n\nPre-K to 1st grade\n2nd grade to 4th grade\n5th grade to 7th grade\n8th grade to 12th grade OR\nAdult Study\n\n 
URL:https://eco-presmv.org/event/sunday-school-for-all-ages-20-2/2023-09-17/
LOCATION:First Presbyterian Church of Monte Vista\, 705 2nd Avenue\, Monte Vista\, CO\, 81144\, United States
CATEGORIES:Bible Studies,Sunday School for all ages
ATTACH;FMTTYPE=image/png:https://eco-presmv.org/wp-content/uploads/2023/07/Event-Featured-Images-website-3.png
END:VEVENT
BEGIN:VEVENT
DTSTART;TZID=America/Denver:20230910T110000
DTEND;TZID=America/Denver:20230910T120000
DTSTAMP:20260421T025508
CREATED:20230707T161621Z
LAST-MODIFIED:20240217T211102Z
UID:10000728-1694343600-1694347200@eco-presmv.org
SUMMARY:Sunday Service with Fellowship to Follow
DESCRIPTION:
URL:https://eco-presmv.org/event/sunday-service-with-fellowship-to-follow-24/2023-09-10/
LOCATION:First Presbyterian Church of Monte Vista\, 705 2nd Avenue\, Monte Vista\, CO\, 81144\, United States
CATEGORIES:Sunday Services
ATTACH;FMTTYPE=image/png:https://eco-presmv.org/wp-content/uploads/2023/07/Event-Featured-Images-website-4.png
END:VEVENT
BEGIN:VEVENT
DTSTART;TZID=America/Denver:20230910T093000
DTEND;TZID=America/Denver:20230910T100000
DTSTAMP:20260421T025508
CREATED:20230707T161207Z
LAST-MODIFIED:20240217T160616Z
UID:10000419-1694338200-1694340000@eco-presmv.org
SUMMARY:Sunday School for All Ages
DESCRIPTION:Join us for Sunday School every week at 9:30 a.m.! \n\nPre-K to 1st grade\n2nd grade to 4th grade\n5th grade to 7th grade\n8th grade to 12th grade OR\nAdult Study\n\n 
URL:https://eco-presmv.org/event/sunday-school-for-all-ages-20-2/2023-09-10/
LOCATION:First Presbyterian Church of Monte Vista\, 705 2nd Avenue\, Monte Vista\, CO\, 81144\, United States
CATEGORIES:Bible Studies,Sunday School for all ages
ATTACH;FMTTYPE=image/png:https://eco-presmv.org/wp-content/uploads/2023/07/Event-Featured-Images-website-3.png
END:VEVENT
BEGIN:VEVENT
DTSTART;TZID=America/Denver:20230908T150000
DTEND;TZID=America/Denver:20230908T163000
DTSTAMP:20260421T025508
CREATED:20230624T183115Z
LAST-MODIFIED:20230624T183115Z
UID:10000387-1694185200-1694190600@eco-presmv.org
SUMMARY:Women's Bible Study
DESCRIPTION:
URL:https://eco-presmv.org/event/womens-bible-study/2023-09-08/
LOCATION:Cheryl’s Home (Call for address)
END:VEVENT
BEGIN:VEVENT
DTSTART;TZID=America/Denver:20230903T100000
DTEND;TZID=America/Denver:20230903T110000
DTSTAMP:20260421T025508
CREATED:20230707T160954Z
LAST-MODIFIED:20230707T160955Z
UID:10000404-1693735200-1693738800@eco-presmv.org
SUMMARY:Sunday Service with Fellowship to Follow
DESCRIPTION:
URL:https://eco-presmv.org/event/sunday-service-with-fellowship-to-follow-23-2/2023-09-03/
LOCATION:First Presbyterian Church of Monte Vista\, 705 2nd Avenue\, Monte Vista\, CO\, 81144\, United States
CATEGORIES:Sunday Services
END:VEVENT
BEGIN:VEVENT
DTSTART;TZID=America/Denver:20230903T093000
DTEND;TZID=America/Denver:20230903T100000
DTSTAMP:20260421T025508
CREATED:20230707T161207Z
LAST-MODIFIED:20240217T160616Z
UID:10000418-1693733400-1693735200@eco-presmv.org
SUMMARY:Sunday School for All Ages
DESCRIPTION:Join us for Sunday School every week at 9:30 a.m.! \n\nPre-K to 1st grade\n2nd grade to 4th grade\n5th grade to 7th grade\n8th grade to 12th grade OR\nAdult Study\n\n 
URL:https://eco-presmv.org/event/sunday-school-for-all-ages-20-2/2023-09-03/
LOCATION:First Presbyterian Church of Monte Vista\, 705 2nd Avenue\, Monte Vista\, CO\, 81144\, United States
CATEGORIES:Bible Studies,Sunday School for all ages
ATTACH;FMTTYPE=image/png:https://eco-presmv.org/wp-content/uploads/2023/07/Event-Featured-Images-website-3.png
END:VEVENT
BEGIN:VEVENT
DTSTART;TZID=America/Denver:20230827T100000
DTEND;TZID=America/Denver:20230827T110000
DTSTAMP:20260421T025508
CREATED:20230707T160954Z
LAST-MODIFIED:20230707T160955Z
UID:10000403-1693130400-1693134000@eco-presmv.org
SUMMARY:Sunday Service with Fellowship to Follow
DESCRIPTION:
URL:https://eco-presmv.org/event/sunday-service-with-fellowship-to-follow-23-2/2023-08-27/
LOCATION:First Presbyterian Church of Monte Vista\, 705 2nd Avenue\, Monte Vista\, CO\, 81144\, United States
CATEGORIES:Sunday Services
END:VEVENT
BEGIN:VEVENT
DTSTART;TZID=America/Denver:20230827T093000
DTEND;TZID=America/Denver:20230827T100000
DTSTAMP:20260421T025508
CREATED:20230707T161207Z
LAST-MODIFIED:20240217T160616Z
UID:10000417-1693128600-1693130400@eco-presmv.org
SUMMARY:Sunday School for All Ages
DESCRIPTION:Join us for Sunday School every week at 9:30 a.m.! \n\nPre-K to 1st grade\n2nd grade to 4th grade\n5th grade to 7th grade\n8th grade to 12th grade OR\nAdult Study\n\n 
URL:https://eco-presmv.org/event/sunday-school-for-all-ages-20-2/2023-08-27/
LOCATION:First Presbyterian Church of Monte Vista\, 705 2nd Avenue\, Monte Vista\, CO\, 81144\, United States
CATEGORIES:Bible Studies,Sunday School for all ages
ATTACH;FMTTYPE=image/png:https://eco-presmv.org/wp-content/uploads/2023/07/Event-Featured-Images-website-3.png
END:VEVENT
BEGIN:VEVENT
DTSTART;TZID=America/Denver:20230825T150000
DTEND;TZID=America/Denver:20230825T163000
DTSTAMP:20260421T025508
CREATED:20230624T183147Z
LAST-MODIFIED:20230624T183147Z
UID:10000394-1692975600-1692981000@eco-presmv.org
SUMMARY:Women's Bible Study
DESCRIPTION:
URL:https://eco-presmv.org/event/womens-bible-study-2/2023-08-25/
LOCATION:Cheryl’s Home (Call for address)
END:VEVENT
BEGIN:VEVENT
DTSTART;TZID=America/Denver:20230820T100000
DTEND;TZID=America/Denver:20230820T110000
DTSTAMP:20260421T025508
CREATED:20230707T160954Z
LAST-MODIFIED:20230707T160955Z
UID:10000402-1692525600-1692529200@eco-presmv.org
SUMMARY:Sunday Service with Fellowship to Follow
DESCRIPTION:
URL:https://eco-presmv.org/event/sunday-service-with-fellowship-to-follow-23-2/2023-08-20/
LOCATION:First Presbyterian Church of Monte Vista\, 705 2nd Avenue\, Monte Vista\, CO\, 81144\, United States
CATEGORIES:Sunday Services
END:VEVENT
BEGIN:VEVENT
DTSTART;TZID=America/Denver:20230820T093000
DTEND;TZID=America/Denver:20230820T100000
DTSTAMP:20260421T025508
CREATED:20230707T161207Z
LAST-MODIFIED:20240217T160616Z
UID:10000416-1692523800-1692525600@eco-presmv.org
SUMMARY:Sunday School for All Ages
DESCRIPTION:Join us for Sunday School every week at 9:30 a.m.! \n\nPre-K to 1st grade\n2nd grade to 4th grade\n5th grade to 7th grade\n8th grade to 12th grade OR\nAdult Study\n\n 
URL:https://eco-presmv.org/event/sunday-school-for-all-ages-20-2/2023-08-20/
LOCATION:First Presbyterian Church of Monte Vista\, 705 2nd Avenue\, Monte Vista\, CO\, 81144\, United States
CATEGORIES:Bible Studies,Sunday School for all ages
ATTACH;FMTTYPE=image/png:https://eco-presmv.org/wp-content/uploads/2023/07/Event-Featured-Images-website-3.png
END:VEVENT
BEGIN:VEVENT
DTSTART;TZID=America/Denver:20230813T100000
DTEND;TZID=America/Denver:20230813T110000
DTSTAMP:20260421T025508
CREATED:20230707T160954Z
LAST-MODIFIED:20230707T160955Z
UID:10000401-1691920800-1691924400@eco-presmv.org
SUMMARY:Sunday Service with Fellowship to Follow
DESCRIPTION:
URL:https://eco-presmv.org/event/sunday-service-with-fellowship-to-follow-23-2/2023-08-13/
LOCATION:First Presbyterian Church of Monte Vista\, 705 2nd Avenue\, Monte Vista\, CO\, 81144\, United States
CATEGORIES:Sunday Services
END:VEVENT
BEGIN:VEVENT
DTSTART;TZID=America/Denver:20230813T093000
DTEND;TZID=America/Denver:20230813T100000
DTSTAMP:20260421T025508
CREATED:20230707T161207Z
LAST-MODIFIED:20240217T160616Z
UID:10000415-1691919000-1691920800@eco-presmv.org
SUMMARY:Sunday School for All Ages
DESCRIPTION:Join us for Sunday School every week at 9:30 a.m.! \n\nPre-K to 1st grade\n2nd grade to 4th grade\n5th grade to 7th grade\n8th grade to 12th grade OR\nAdult Study\n\n 
URL:https://eco-presmv.org/event/sunday-school-for-all-ages-20-2/2023-08-13/
LOCATION:First Presbyterian Church of Monte Vista\, 705 2nd Avenue\, Monte Vista\, CO\, 81144\, United States
CATEGORIES:Bible Studies,Sunday School for all ages
ATTACH;FMTTYPE=image/png:https://eco-presmv.org/wp-content/uploads/2023/07/Event-Featured-Images-website-3.png
END:VEVENT
BEGIN:VEVENT
DTSTART;TZID=America/Denver:20230811T150000
DTEND;TZID=America/Denver:20230811T163000
DTSTAMP:20260421T025508
CREATED:20230624T183115Z
LAST-MODIFIED:20230624T183115Z
UID:10000386-1691766000-1691771400@eco-presmv.org
SUMMARY:Women's Bible Study
DESCRIPTION:
URL:https://eco-presmv.org/event/womens-bible-study/2023-08-11/
LOCATION:Cheryl’s Home (Call for address)
END:VEVENT
BEGIN:VEVENT
DTSTART;TZID=America/Denver:20230806T100000
DTEND;TZID=America/Denver:20230806T110000
DTSTAMP:20260421T025508
CREATED:20230707T160954Z
LAST-MODIFIED:20230707T160955Z
UID:10000400-1691316000-1691319600@eco-presmv.org
SUMMARY:Sunday Service with Fellowship to Follow
DESCRIPTION:
URL:https://eco-presmv.org/event/sunday-service-with-fellowship-to-follow-23-2/2023-08-06/
LOCATION:First Presbyterian Church of Monte Vista\, 705 2nd Avenue\, Monte Vista\, CO\, 81144\, United States
CATEGORIES:Sunday Services
END:VEVENT
BEGIN:VEVENT
DTSTART;TZID=America/Denver:20230806T093000
DTEND;TZID=America/Denver:20230806T100000
DTSTAMP:20260421T025508
CREATED:20230707T161207Z
LAST-MODIFIED:20240217T160616Z
UID:10000414-1691314200-1691316000@eco-presmv.org
SUMMARY:Sunday School for All Ages
DESCRIPTION:Join us for Sunday School every week at 9:30 a.m.! \n\nPre-K to 1st grade\n2nd grade to 4th grade\n5th grade to 7th grade\n8th grade to 12th grade OR\nAdult Study\n\n 
URL:https://eco-presmv.org/event/sunday-school-for-all-ages-20-2/2023-08-06/
LOCATION:First Presbyterian Church of Monte Vista\, 705 2nd Avenue\, Monte Vista\, CO\, 81144\, United States
CATEGORIES:Bible Studies,Sunday School for all ages
ATTACH;FMTTYPE=image/png:https://eco-presmv.org/wp-content/uploads/2023/07/Event-Featured-Images-website-3.png
END:VEVENT
BEGIN:VEVENT
DTSTART;TZID=America/Denver:20230730T100000
DTEND;TZID=America/Denver:20230730T110000
DTSTAMP:20260421T025508
CREATED:20230707T160954Z
LAST-MODIFIED:20230707T160955Z
UID:10000399-1690711200-1690714800@eco-presmv.org
SUMMARY:Sunday Service with Fellowship to Follow
DESCRIPTION:
URL:https://eco-presmv.org/event/sunday-service-with-fellowship-to-follow-23-2/2023-07-30/
LOCATION:First Presbyterian Church of Monte Vista\, 705 2nd Avenue\, Monte Vista\, CO\, 81144\, United States
CATEGORIES:Sunday Services
END:VEVENT
END:VCALENDAR