BEGIN:VCALENDAR
VERSION:2.0
PRODID:-//First Presbyterian Church Monte Vista - ECPv6.15.17.1//NONSGML v1.0//EN
CALSCALE:GREGORIAN
METHOD:PUBLISH
X-ORIGINAL-URL:https://eco-presmv.org
X-WR-CALDESC:Events for First Presbyterian Church Monte Vista
REFRESH-INTERVAL;VALUE=DURATION:PT1H
X-Robots-Tag:noindex
X-PUBLISHED-TTL:PT1H
BEGIN:VTIMEZONE
TZID:America/Denver
BEGIN:DAYLIGHT
TZOFFSETFROM:-0700
TZOFFSETTO:-0600
TZNAME:MDT
DTSTART:20220313T090000
END:DAYLIGHT
BEGIN:STANDARD
TZOFFSETFROM:-0600
TZOFFSETTO:-0700
TZNAME:MST
DTSTART:20221106T080000
END:STANDARD
BEGIN:DAYLIGHT
TZOFFSETFROM:-0700
TZOFFSETTO:-0600
TZNAME:MDT
DTSTART:20230312T090000
END:DAYLIGHT
BEGIN:STANDARD
TZOFFSETFROM:-0600
TZOFFSETTO:-0700
TZNAME:MST
DTSTART:20231105T080000
END:STANDARD
BEGIN:DAYLIGHT
TZOFFSETFROM:-0700
TZOFFSETTO:-0600
TZNAME:MDT
DTSTART:20240310T090000
END:DAYLIGHT
BEGIN:STANDARD
TZOFFSETFROM:-0600
TZOFFSETTO:-0700
TZNAME:MST
DTSTART:20241103T080000
END:STANDARD
END:VTIMEZONE
BEGIN:VEVENT
DTSTART;TZID=America/Denver:20231105T110000
DTEND;TZID=America/Denver:20231105T120000
DTSTAMP:20260421T083744
CREATED:20230707T161621Z
LAST-MODIFIED:20240217T211102Z
UID:10000736-1699182000-1699185600@eco-presmv.org
SUMMARY:Sunday Service with Fellowship to Follow
DESCRIPTION:
URL:https://eco-presmv.org/event/sunday-service-with-fellowship-to-follow-24/2023-11-05/
LOCATION:First Presbyterian Church of Monte Vista\, 705 2nd Avenue\, Monte Vista\, CO\, 81144\, United States
CATEGORIES:Sunday Services
ATTACH;FMTTYPE=image/png:https://eco-presmv.org/wp-content/uploads/2023/07/Event-Featured-Images-website-4.png
END:VEVENT
BEGIN:VEVENT
DTSTART;TZID=America/Denver:20231112T110000
DTEND;TZID=America/Denver:20231112T120000
DTSTAMP:20260421T083744
CREATED:20230707T161621Z
LAST-MODIFIED:20240217T211102Z
UID:10000737-1699786800-1699790400@eco-presmv.org
SUMMARY:Sunday Service with Fellowship to Follow
DESCRIPTION:
URL:https://eco-presmv.org/event/sunday-service-with-fellowship-to-follow-24/2023-11-12/
LOCATION:First Presbyterian Church of Monte Vista\, 705 2nd Avenue\, Monte Vista\, CO\, 81144\, United States
CATEGORIES:Sunday Services
ATTACH;FMTTYPE=image/png:https://eco-presmv.org/wp-content/uploads/2023/07/Event-Featured-Images-website-4.png
END:VEVENT
BEGIN:VEVENT
DTSTART;TZID=America/Denver:20231119T110000
DTEND;TZID=America/Denver:20231119T120000
DTSTAMP:20260421T083744
CREATED:20230707T161621Z
LAST-MODIFIED:20240217T211102Z
UID:10000738-1700391600-1700395200@eco-presmv.org
SUMMARY:Sunday Service with Fellowship to Follow
DESCRIPTION:
URL:https://eco-presmv.org/event/sunday-service-with-fellowship-to-follow-24/2023-11-19/
LOCATION:First Presbyterian Church of Monte Vista\, 705 2nd Avenue\, Monte Vista\, CO\, 81144\, United States
CATEGORIES:Sunday Services
ATTACH;FMTTYPE=image/png:https://eco-presmv.org/wp-content/uploads/2023/07/Event-Featured-Images-website-4.png
END:VEVENT
BEGIN:VEVENT
DTSTART;TZID=America/Denver:20231126T110000
DTEND;TZID=America/Denver:20231126T120000
DTSTAMP:20260421T083744
CREATED:20230707T161621Z
LAST-MODIFIED:20240217T211102Z
UID:10000739-1700996400-1701000000@eco-presmv.org
SUMMARY:Sunday Service with Fellowship to Follow
DESCRIPTION:
URL:https://eco-presmv.org/event/sunday-service-with-fellowship-to-follow-24/2023-11-26/
LOCATION:First Presbyterian Church of Monte Vista\, 705 2nd Avenue\, Monte Vista\, CO\, 81144\, United States
CATEGORIES:Sunday Services
ATTACH;FMTTYPE=image/png:https://eco-presmv.org/wp-content/uploads/2023/07/Event-Featured-Images-website-4.png
END:VEVENT
END:VCALENDAR