BEGIN:VCALENDAR
VERSION:2.0
PRODID:-//First Presbyterian Church Monte Vista - ECPv6.15.20//NONSGML v1.0//EN
CALSCALE:GREGORIAN
METHOD:PUBLISH
X-ORIGINAL-URL:https://eco-presmv.org
X-WR-CALDESC:Events for First Presbyterian Church Monte Vista
REFRESH-INTERVAL;VALUE=DURATION:PT1H
X-Robots-Tag:noindex
X-PUBLISHED-TTL:PT1H
BEGIN:VTIMEZONE
TZID:America/Denver
BEGIN:DAYLIGHT
TZOFFSETFROM:-0700
TZOFFSETTO:-0600
TZNAME:MDT
DTSTART:20220313T090000
END:DAYLIGHT
BEGIN:STANDARD
TZOFFSETFROM:-0600
TZOFFSETTO:-0700
TZNAME:MST
DTSTART:20221106T080000
END:STANDARD
BEGIN:DAYLIGHT
TZOFFSETFROM:-0700
TZOFFSETTO:-0600
TZNAME:MDT
DTSTART:20230312T090000
END:DAYLIGHT
BEGIN:STANDARD
TZOFFSETFROM:-0600
TZOFFSETTO:-0700
TZNAME:MST
DTSTART:20231105T080000
END:STANDARD
BEGIN:DAYLIGHT
TZOFFSETFROM:-0700
TZOFFSETTO:-0600
TZNAME:MDT
DTSTART:20240310T090000
END:DAYLIGHT
BEGIN:STANDARD
TZOFFSETFROM:-0600
TZOFFSETTO:-0700
TZNAME:MST
DTSTART:20241103T080000
END:STANDARD
END:VTIMEZONE
BEGIN:VEVENT
DTSTART;TZID=America/Denver:20230108T093000
DTEND;TZID=America/Denver:20230108T110000
DTSTAMP:20260423T083026
CREATED:20221226T140724Z
LAST-MODIFIED:20221226T140724Z
UID:10000099-1673170200-1673175600@eco-presmv.org
SUMMARY:Sunday School for All Ages
DESCRIPTION:
URL:https://eco-presmv.org/event/sunday-school-for-all-ages-17/
LOCATION:First Presbyterian Church of Monte Vista\, 705 2nd Avenue\, Monte Vista\, CO\, 81144\, United States
CATEGORIES:Sunday School for all ages
END:VEVENT
BEGIN:VEVENT
DTSTART;TZID=America/Denver:20230115T093000
DTEND;TZID=America/Denver:20230115T110000
DTSTAMP:20260423T083026
CREATED:20221226T140755Z
LAST-MODIFIED:20221226T140755Z
UID:10000100-1673775000-1673780400@eco-presmv.org
SUMMARY:Sunday School for All Ages
DESCRIPTION:
URL:https://eco-presmv.org/event/sunday-school-for-all-ages-18/
LOCATION:First Presbyterian Church of Monte Vista\, 705 2nd Avenue\, Monte Vista\, CO\, 81144\, United States
CATEGORIES:Sunday School for all ages
END:VEVENT
BEGIN:VEVENT
DTSTART;TZID=America/Denver:20230122T093000
DTEND;TZID=America/Denver:20230122T110000
DTSTAMP:20260423T083026
CREATED:20221226T140827Z
LAST-MODIFIED:20221226T140827Z
UID:10000101-1674379800-1674385200@eco-presmv.org
SUMMARY:Sunday School for All Ages
DESCRIPTION:
URL:https://eco-presmv.org/event/sunday-school-for-all-ages-19/
LOCATION:First Presbyterian Church of Monte Vista\, 705 2nd Avenue\, Monte Vista\, CO\, 81144\, United States
CATEGORIES:Sunday School for all ages
END:VEVENT
BEGIN:VEVENT
DTSTART;TZID=America/Denver:20230129T093000
DTEND;TZID=America/Denver:20230129T110000
DTSTAMP:20260423T083026
CREATED:20221226T140909Z
LAST-MODIFIED:20230227T190713Z
UID:10000102-1674984600-1674990000@eco-presmv.org
SUMMARY:Sunday School for All Ages
DESCRIPTION:
URL:https://eco-presmv.org/event/sunday-school-for-all-ages-20/2023-01-29/
LOCATION:First Presbyterian Church of Monte Vista\, 705 2nd Avenue\, Monte Vista\, CO\, 81144\, United States
CATEGORIES:Sunday School for all ages
END:VEVENT
END:VCALENDAR