BEGIN:VCALENDAR
VERSION:2.0
PRODID:-//First Presbyterian Church Monte Vista - ECPv6.15.20//NONSGML v1.0//EN
CALSCALE:GREGORIAN
METHOD:PUBLISH
X-ORIGINAL-URL:https://eco-presmv.org
X-WR-CALDESC:Events for First Presbyterian Church Monte Vista
REFRESH-INTERVAL;VALUE=DURATION:PT1H
X-Robots-Tag:noindex
X-PUBLISHED-TTL:PT1H
BEGIN:VTIMEZONE
TZID:America/Denver
BEGIN:DAYLIGHT
TZOFFSETFROM:-0700
TZOFFSETTO:-0600
TZNAME:MDT
DTSTART:20210314T090000
END:DAYLIGHT
BEGIN:STANDARD
TZOFFSETFROM:-0600
TZOFFSETTO:-0700
TZNAME:MST
DTSTART:20211107T080000
END:STANDARD
BEGIN:DAYLIGHT
TZOFFSETFROM:-0700
TZOFFSETTO:-0600
TZNAME:MDT
DTSTART:20220313T090000
END:DAYLIGHT
BEGIN:STANDARD
TZOFFSETFROM:-0600
TZOFFSETTO:-0700
TZNAME:MST
DTSTART:20221106T080000
END:STANDARD
BEGIN:DAYLIGHT
TZOFFSETFROM:-0700
TZOFFSETTO:-0600
TZNAME:MDT
DTSTART:20230312T090000
END:DAYLIGHT
BEGIN:STANDARD
TZOFFSETFROM:-0600
TZOFFSETTO:-0700
TZNAME:MST
DTSTART:20231105T080000
END:STANDARD
END:VTIMEZONE
BEGIN:VEVENT
DTSTART;TZID=America/Denver:20221106T093000
DTEND;TZID=America/Denver:20221106T110000
DTSTAMP:20260423T113319
CREATED:20220831T191250Z
LAST-MODIFIED:20220831T191250Z
UID:10000079-1667727000-1667732400@eco-presmv.org
SUMMARY:Sunday School for All Ages
DESCRIPTION:
URL:https://eco-presmv.org/event/sunday-school-for-all-ages-9/
LOCATION:First Presbyterian Church of Monte Vista\, 705 2nd Avenue\, Monte Vista\, CO\, 81144\, United States
CATEGORIES:Sunday School for all ages
END:VEVENT
BEGIN:VEVENT
DTSTART;TZID=America/Denver:20221113T093000
DTEND;TZID=America/Denver:20221113T110000
DTSTAMP:20260423T113319
CREATED:20220831T191321Z
LAST-MODIFIED:20220831T191321Z
UID:10000080-1668331800-1668337200@eco-presmv.org
SUMMARY:Sunday School for All Ages
DESCRIPTION:
URL:https://eco-presmv.org/event/sunday-school-for-all-ages-10/
LOCATION:First Presbyterian Church of Monte Vista\, 705 2nd Avenue\, Monte Vista\, CO\, 81144\, United States
CATEGORIES:Sunday School for all ages
END:VEVENT
BEGIN:VEVENT
DTSTART;TZID=America/Denver:20221120T093000
DTEND;TZID=America/Denver:20221120T110000
DTSTAMP:20260423T113319
CREATED:20220831T191351Z
LAST-MODIFIED:20220831T191351Z
UID:10000081-1668936600-1668942000@eco-presmv.org
SUMMARY:Sunday School for All Ages
DESCRIPTION:
URL:https://eco-presmv.org/event/sunday-school-for-all-ages-11/
LOCATION:First Presbyterian Church of Monte Vista\, 705 2nd Avenue\, Monte Vista\, CO\, 81144\, United States
CATEGORIES:Sunday School for all ages
END:VEVENT
BEGIN:VEVENT
DTSTART;TZID=America/Denver:20221127T093000
DTEND;TZID=America/Denver:20221127T110000
DTSTAMP:20260423T113319
CREATED:20220831T191459Z
LAST-MODIFIED:20220831T191459Z
UID:10000082-1669541400-1669546800@eco-presmv.org
SUMMARY:Sunday School for All Ages
DESCRIPTION:
URL:https://eco-presmv.org/event/sunday-school-for-all-ages-12/
LOCATION:First Presbyterian Church of Monte Vista\, 705 2nd Avenue\, Monte Vista\, CO\, 81144\, United States
CATEGORIES:Sunday School for all ages
END:VEVENT
END:VCALENDAR