BEGIN:VCALENDAR
VERSION:2.0
PRODID:-//First Presbyterian Church Monte Vista - ECPv6.15.20//NONSGML v1.0//EN
CALSCALE:GREGORIAN
METHOD:PUBLISH
X-ORIGINAL-URL:https://eco-presmv.org
X-WR-CALDESC:Events for First Presbyterian Church Monte Vista
REFRESH-INTERVAL;VALUE=DURATION:PT1H
X-Robots-Tag:noindex
X-PUBLISHED-TTL:PT1H
BEGIN:VTIMEZONE
TZID:America/Denver
BEGIN:DAYLIGHT
TZOFFSETFROM:-0700
TZOFFSETTO:-0600
TZNAME:MDT
DTSTART:20210314T090000
END:DAYLIGHT
BEGIN:STANDARD
TZOFFSETFROM:-0600
TZOFFSETTO:-0700
TZNAME:MST
DTSTART:20211107T080000
END:STANDARD
BEGIN:DAYLIGHT
TZOFFSETFROM:-0700
TZOFFSETTO:-0600
TZNAME:MDT
DTSTART:20220313T090000
END:DAYLIGHT
BEGIN:STANDARD
TZOFFSETFROM:-0600
TZOFFSETTO:-0700
TZNAME:MST
DTSTART:20221106T080000
END:STANDARD
BEGIN:DAYLIGHT
TZOFFSETFROM:-0700
TZOFFSETTO:-0600
TZNAME:MDT
DTSTART:20230312T090000
END:DAYLIGHT
BEGIN:STANDARD
TZOFFSETFROM:-0600
TZOFFSETTO:-0700
TZNAME:MST
DTSTART:20231105T080000
END:STANDARD
END:VTIMEZONE
BEGIN:VEVENT
DTSTART;TZID=America/Denver:20221105T100000
DTEND;TZID=America/Denver:20221105T160000
DTSTAMP:20260423T024500
CREATED:20221025T201800Z
LAST-MODIFIED:20221025T201800Z
UID:10000090-1667642400-1667664000@eco-presmv.org
SUMMARY:Women’s Bible Study\, Cafe Chocolat
DESCRIPTION:
URL:https://eco-presmv.org/event/womens-bible-study-cafe-chocolat/
LOCATION:First Presbyterian Church of Monte Vista\, 705 2nd Avenue\, Monte Vista\, CO\, 81144\, United States
CATEGORIES:Special Events
END:VEVENT
BEGIN:VEVENT
DTSTART;VALUE=DATE:20221112
DTEND;VALUE=DATE:20221113
DTSTAMP:20260423T024500
CREATED:20221025T201837Z
LAST-MODIFIED:20221025T201837Z
UID:10000091-1668211200-1668297599@eco-presmv.org
SUMMARY:Operation Christmas Child Box Packing Party
DESCRIPTION:
URL:https://eco-presmv.org/event/operation-christmas-child-box-packing-party/
LOCATION:First Presbyterian Church of Monte Vista\, 705 2nd Avenue\, Monte Vista\, CO\, 81144\, United States
CATEGORIES:Special Events
END:VEVENT
BEGIN:VEVENT
DTSTART;TZID=America/Denver:20221127T160000
DTEND;TZID=America/Denver:20221127T170000
DTSTAMP:20260423T024500
CREATED:20221025T201919Z
LAST-MODIFIED:20221025T201919Z
UID:10000092-1669564800-1669568400@eco-presmv.org
SUMMARY:Hanging of the Greens
DESCRIPTION:
URL:https://eco-presmv.org/event/hanging-of-the-greens/
LOCATION:First Presbyterian Church of Monte Vista\, 705 2nd Avenue\, Monte Vista\, CO\, 81144\, United States
CATEGORIES:Special Events
END:VEVENT
END:VCALENDAR